Workbook

Sheet Title
A27: Input Hotel Name Here
A28: New York, NY
A29: 2027
A30: Capital Expenditure Budget
A32: General Manager:
A34: Director of Finance:
A36: Keys: | G36: 0

Sheet Curent Year CapEx
A2: =Title!A27 -> Input Hotel Name Here
A3: =Title!A29 -> 2027
A4: =Title!A30 -> Capital Expenditure Budget
B5: CapEx Reserve % | C5: 0.04 | K5: =$C$5 -> 0.04 | L5: =$C$5 -> 0.04 | M5: =$C$5 -> 0.04 | N5: =$C$5 -> 0.04 | O5: =$C$5 -> 0.04 | P5: =$C$5 -> 0.04 | Q5: =$C$5 -> 0.04 | R5: =$C$5 -> 0.04 | ... V5: =$C$5 -> 0.04
B6: Revenues - Budget | C6: =SUM(K6:V6) -> 0 | K6: 0 | L6: 0 | M6: 0 | N6: 0 | O6: 0 | P6: 0 | Q6: 0 | R6: 0 | S6: 0 | T6: 0 | U6: 0 | V6: 0
B7: Opening Reserve Balance | C7: =K7 -> 0 | K7: 0 | L7: =K11 -> 0 | M7: =L11 -> 0 | N7: =M11 -> 0 | O7: =N11 -> 0 | P7: =O11 -> 0 | Q7: =P11 -> 0 | R7: =Q11 -> 0 | S7: =R11 -> 0 | ... V7: =U11 -> 0
B8: Projected/Actual - Funding Reserve | C8: =SUM(K8:V8) -> 0 | K8: =K6*K5 -> 0 | L8: =L6*L5 -> 0 | M8: =M6*M5 -> 0 | N8: =N6*N5 -> 0 | O8: =O6*O5 -> 0 | P8: =P6*P5 -> 0 | Q8: =Q6*Q5 -> 0 | R8: =R6*R5 -> 0 | ... V8: =V6*V5 -> 0
B9: Total Owner Infused Funds | C9: =SUM(K9:V9) -> 0 | K9: 0 | L9: 0 | M9: 0 | N9: 0 | O9: 0 | P9: 0 | Q9: 0 | R9: 0 | S9: 0 | T9: 0 | U9: 0 | V9: 0
B10: Total Capital Expenditure | C10: =SUM(K10:V10) -> 0 | K10: =SUM(K15:K89) -> 0 | L10: =SUM(L15:L89) -> 0 | M10: =SUM(M15:M89) -> 0 | N10: =SUM(N15:N89) -> 0 | O10: =SUM(O15:O89) -> 0 | P10: =SUM(P15:P89) -> 0 | Q10: =SUM(Q15:Q89) -> 0 | R10: =SUM(R15:R89) -> 0 | ... V10: =SUM(V15:V89) -> 0
B11: Ending Reserve Balance | C11: =C7+C8+C9-C10 -> 0 | K11: =K7+K8+K9-K10 -> 0 | L11: =L7+L8+L9-L10 -> 0 | M11: =M7+M8+M9-M10 -> 0 | N11: =N7+N8+N9-N10 -> 0 | O11: =O7+O8+O9-O10 -> 0 | P11: =P7+P8+P9-P10 -> 0 | Q11: =Q7+Q8+Q9-Q10 -> 0 | R11: =R7+R8+R9-R10 -> 0 | ... V11: =V7+V8+V9-V10 -> 0
K12: MONTHLY EXPENDITURE
A13: Project # | B13: Project Name | C13: Original | D13: Add/Delete to | E13: Owner Infused | F13: Revised | G13: Commited | H13: Spent | I13: Balance of | J13: Balance of | K13: Projected | L13: Projected | M13: Projected | N13: Projected | O13: Projected | P13: Projected | Q13: Projected | R13: Projected | S13: Projected | T13: Projected | U13: Projected | V13: Projected
C14: Budget | D14: Original Budget | E14: Funds | F14: Budget | G14: YTD | H14: YTD | I14: Committed to Spend | J14: Budget Remaining | K14: January | L14: February | M14: March | N14: April | O14: May | P14: June | Q14: July | R14: August | S14: September | T14: October | U14: November | V14: December
A15: 27-01 | B15: ='CapEx Project Detail'!B9 -> 0 | C15: ='CapEx Project Detail'!B14 -> 0 | F15: =C15+D15+E15 -> 0 | G15: ='CapEx Project Detail'!B15 -> 0 | I15: =G15-H15 -> 0 | J15: =F15-G15 -> 0 | K15: ='CapEx Project Detail'!D15 -> 0 | L15: ='CapEx Project Detail'!F15 -> 0 | M15: ='CapEx Project Detail'!H15 -> 0 | N15: ='CapEx Project Detail'!J15 -> 0 | O15: ='CapEx Project Detail'!L15 -> 0 | P15: ='CapEx Project Detail'!N15 -> 0 | Q15: ='CapEx Project Detail'!P15 -> 0 | R15: ='CapEx Project Detail'!R15 -> 0 | S15: ='CapEx Project Detail'!T15 -> 0 | T15: ='CapEx Project Detail'!V15 -> 0 | U15: ='CapEx Project Detail'!X15 -> 0 | V15: ='CapEx Project Detail'!Z15 -> 0
A16: 27-02 | B16: ='CapEx Project Detail'!B17 -> 0 | C16: ='CapEx Project Detail'!B22 -> 0 | F16: =C16+D16+E16 -> 0 | G16: ='CapEx Project Detail'!B23 -> 0 | I16: =G16-H16 -> 0 | J16: =F16-G16 -> 0 | K16: ='CapEx Project Detail'!D23 -> 0 | L16: ='CapEx Project Detail'!F23 -> 0 | M16: ='CapEx Project Detail'!H23 -> 0 | N16: ='CapEx Project Detail'!J23 -> 0 | O16: ='CapEx Project Detail'!L23 -> 0 | P16: ='CapEx Project Detail'!N23 -> 0 | Q16: ='CapEx Project Detail'!P23 -> 0 | R16: ='CapEx Project Detail'!R23 -> 0 | S16: ='CapEx Project Detail'!T23 -> 0 | T16: ='CapEx Project Detail'!V23 -> 0 | U16: ='CapEx Project Detail'!X23 -> 0 | V16: ='CapEx Project Detail'!Z23 -> 0
A17: 27-03 | B17: ='CapEx Project Detail'!B25 -> 0 | C17: ='CapEx Project Detail'!B30 -> 0 | F17: =C17+D17+E17 -> 0 | G17: ='CapEx Project Detail'!B31 -> 0 | I17: =G17-H17 -> 0 | J17: =F17-G17 -> 0 | K17: ='CapEx Project Detail'!D31 -> 0 | L17: ='CapEx Project Detail'!F31 -> 0 | M17: ='CapEx Project Detail'!H31 -> 0 | N17: ='CapEx Project Detail'!J31 -> 0 | O17: ='CapEx Project Detail'!L31 -> 0 | P17: ='CapEx Project Detail'!N31 -> 0 | Q17: ='CapEx Project Detail'!P31 -> 0 | R17: ='CapEx Project Detail'!R31 -> 0 | S17: ='CapEx Project Detail'!T31 -> 0 | T17: ='CapEx Project Detail'!V31 -> 0 | U17: ='CapEx Project Detail'!X31 -> 0 | V17: ='CapEx Project Detail'!Z31 -> 0
A18: 27-04 | B18: ='CapEx Project Detail'!B33 -> 0 | C18: ='CapEx Project Detail'!B38 -> 0 | F18: =C18+D18+E18 -> 0 | G18: ='CapEx Project Detail'!B39 -> 0 | I18: =G18-H18 -> 0 | J18: =F18-G18 -> 0 | K18: ='CapEx Project Detail'!D39 -> 0 | L18: ='CapEx Project Detail'!F39 -> 0 | M18: ='CapEx Project Detail'!H39 -> 0 | N18: ='CapEx Project Detail'!J39 -> 0 | O18: ='CapEx Project Detail'!L39 -> 0 | P18: ='CapEx Project Detail'!N39 -> 0 | Q18: ='CapEx Project Detail'!P39 -> 0 | R18: ='CapEx Project Detail'!R39 -> 0 | S18: ='CapEx Project Detail'!T39 -> 0 | T18: ='CapEx Project Detail'!V39 -> 0 | U18: ='CapEx Project Detail'!X39 -> 0 | V18: ='CapEx Project Detail'!Z39 -> 0
A19: 27-05 | B19: ='CapEx Project Detail'!B41 -> 0 | C19: ='CapEx Project Detail'!B46 -> 0 | F19: =C19+D19+E19 -> 0 | G19: ='CapEx Project Detail'!B47 -> 0 | I19: =G19-H19 -> 0 | J19: =F19-G19 -> 0 | K19: ='CapEx Project Detail'!D47 -> 0 | L19: ='CapEx Project Detail'!F47 -> 0 | M19: ='CapEx Project Detail'!H47 -> 0 | N19: ='CapEx Project Detail'!J47 -> 0 | O19: ='CapEx Project Detail'!L47 -> 0 | P19: ='CapEx Project Detail'!N47 -> 0 | Q19: ='CapEx Project Detail'!P47 -> 0 | R19: ='CapEx Project Detail'!R47 -> 0 | S19: ='CapEx Project Detail'!T47 -> 0 | T19: ='CapEx Project Detail'!V47 -> 0 | U19: ='CapEx Project Detail'!X47 -> 0 | V19: ='CapEx Project Detail'!Z47 -> 0
A20: 27-06 | B20: ='CapEx Project Detail'!B49 -> 0 | C20: ='CapEx Project Detail'!B54 -> 0 | F20: =C20+D20+E20 -> 0 | G20: ='CapEx Project Detail'!B55 -> 0 | I20: =G20-H20 -> 0 | J20: =F20-G20 -> 0 | K20: ='CapEx Project Detail'!D55 -> 0 | L20: ='CapEx Project Detail'!F55 -> 0 | M20: ='CapEx Project Detail'!H55 -> 0 | N20: ='CapEx Project Detail'!J55 -> 0 | O20: ='CapEx Project Detail'!L55 -> 0 | P20: ='CapEx Project Detail'!N55 -> 0 | Q20: ='CapEx Project Detail'!P55 -> 0 | R20: ='CapEx Project Detail'!R55 -> 0 | S20: ='CapEx Project Detail'!T55 -> 0 | T20: ='CapEx Project Detail'!V55 -> 0 | U20: ='CapEx Project Detail'!X55 -> 0 | V20: ='CapEx Project Detail'!Z55 -> 0
A21: 27-07 | B21: ='CapEx Project Detail'!B57 -> 0 | C21: ='CapEx Project Detail'!B62 -> 0 | F21: =C21+D21+E21 -> 0 | G21: ='CapEx Project Detail'!B63 -> 0 | I21: =G21-H21 -> 0 | J21: =F21-G21 -> 0 | K21: ='CapEx Project Detail'!D63 -> 0 | L21: ='CapEx Project Detail'!F63 -> 0 | M21: ='CapEx Project Detail'!H63 -> 0 | N21: ='CapEx Project Detail'!J63 -> 0 | O21: ='CapEx Project Detail'!L63 -> 0 | P21: ='CapEx Project Detail'!N63 -> 0 | Q21: ='CapEx Project Detail'!P63 -> 0 | R21: ='CapEx Project Detail'!R63 -> 0 | S21: ='CapEx Project Detail'!T63 -> 0 | T21: ='CapEx Project Detail'!V63 -> 0 | U21: ='CapEx Project Detail'!X63 -> 0 | V21: ='CapEx Project Detail'!Z63 -> 0
A22: 27-08 | B22: ='CapEx Project Detail'!B65 -> 0 | C22: ='CapEx Project Detail'!B70 -> 0 | F22: =C22+D22+E22 -> 0 | G22: ='CapEx Project Detail'!B71 -> 0 | I22: =G22-H22 -> 0 | J22: =F22-G22 -> 0 | K22: ='CapEx Project Detail'!D71 -> 0 | L22: ='CapEx Project Detail'!F71 -> 0 | M22: ='CapEx Project Detail'!H71 -> 0 | N22: ='CapEx Project Detail'!J71 -> 0 | O22: ='CapEx Project Detail'!L71 -> 0 | P22: ='CapEx Project Detail'!N71 -> 0 | Q22: ='CapEx Project Detail'!P71 -> 0 | R22: ='CapEx Project Detail'!R71 -> 0 | S22: ='CapEx Project Detail'!T71 -> 0 | T22: ='CapEx Project Detail'!V71 -> 0 | U22: ='CapEx Project Detail'!X71 -> 0 | V22: ='CapEx Project Detail'!Z71 -> 0
A23: 27-09 | B23: ='CapEx Project Detail'!B73 -> 0 | C23: ='CapEx Project Detail'!B78 -> 0 | F23: =C23+D23+E23 -> 0 | G23: ='CapEx Project Detail'!B79 -> 0 | I23: =G23-H23 -> 0 | J23: =F23-G23 -> 0 | K23: ='CapEx Project Detail'!D79 -> 0 | L23: ='CapEx Project Detail'!F79 -> 0 | M23: ='CapEx Project Detail'!H79 -> 0 | N23: ='CapEx Project Detail'!J79 -> 0 | O23: ='CapEx Project Detail'!L79 -> 0 | P23: ='CapEx Project Detail'!N79 -> 0 | Q23: ='CapEx Project Detail'!P79 -> 0 | R23: ='CapEx Project Detail'!R79 -> 0 | S23: ='CapEx Project Detail'!T79 -> 0 | T23: ='CapEx Project Detail'!V79 -> 0 | U23: ='CapEx Project Detail'!X79 -> 0 | V23: ='CapEx Project Detail'!Z79 -> 0
A24: 27-10 | B24: ='CapEx Project Detail'!B81 -> 0 | C24: ='CapEx Project Detail'!B86 -> 0 | F24: =C24+D24+E24 -> 0 | G24: ='CapEx Project Detail'!B87 -> 0 | I24: =G24-H24 -> 0 | J24: =F24-G24 -> 0 | K24: ='CapEx Project Detail'!D87 -> 0 | L24: ='CapEx Project Detail'!F87 -> 0 | M24: ='CapEx Project Detail'!H87 -> 0 | N24: ='CapEx Project Detail'!J87 -> 0 | O24: ='CapEx Project Detail'!L87 -> 0 | P24: ='CapEx Project Detail'!N87 -> 0 | Q24: ='CapEx Project Detail'!P87 -> 0 | R24: ='CapEx Project Detail'!R87 -> 0 | S24: ='CapEx Project Detail'!T87 -> 0 | T24: ='CapEx Project Detail'!V87 -> 0 | U24: ='CapEx Project Detail'!X87 -> 0 | V24: ='CapEx Project Detail'!Z87 -> 0
A25: 27-11 | B25: ='CapEx Project Detail'!B89 -> 0 | C25: ='CapEx Project Detail'!B94 -> 0 | F25: =C25+D25+E25 -> 0 | G25: ='CapEx Project Detail'!B95 -> 0 | I25: =G25-H25 -> 0 | J25: =F25-G25 -> 0 | K25: ='CapEx Project Detail'!D95 -> 0 | L25: ='CapEx Project Detail'!F95 -> 0 | M25: ='CapEx Project Detail'!H95 -> 0 | N25: ='CapEx Project Detail'!J95 -> 0 | O25: ='CapEx Project Detail'!L95 -> 0 | P25: ='CapEx Project Detail'!N95 -> 0 | Q25: ='CapEx Project Detail'!P95 -> 0 | R25: ='CapEx Project Detail'!R95 -> 0 | S25: ='CapEx Project Detail'!T95 -> 0 | T25: ='CapEx Project Detail'!V95 -> 0 | U25: ='CapEx Project Detail'!X95 -> 0 | V25: ='CapEx Project Detail'!Z95 -> 0
A26: 27-12 | B26: ='CapEx Project Detail'!B97 -> 0 | C26: ='CapEx Project Detail'!B102 -> 0 | F26: =C26+D26+E26 -> 0 | G26: ='CapEx Project Detail'!B103 -> 0 | I26: =G26-H26 -> 0 | J26: =F26-G26 -> 0 | K26: ='CapEx Project Detail'!D103 -> 0 | L26: ='CapEx Project Detail'!F103 -> 0 | M26: ='CapEx Project Detail'!H103 -> 0 | N26: ='CapEx Project Detail'!J103 -> 0 | O26: ='CapEx Project Detail'!L103 -> 0 | P26: ='CapEx Project Detail'!N103 -> 0 | Q26: ='CapEx Project Detail'!P103 -> 0 | R26: ='CapEx Project Detail'!R103 -> 0 | S26: ='CapEx Project Detail'!T103 -> 0 | T26: ='CapEx Project Detail'!V103 -> 0 | U26: ='CapEx Project Detail'!X103 -> 0 | V26: ='CapEx Project Detail'!Z103 -> 0
A27: 27-13 | B27: ='CapEx Project Detail'!B105 -> 0 | C27: ='CapEx Project Detail'!B110 -> 0 | F27: =C27+D27+E27 -> 0 | G27: ='CapEx Project Detail'!B111 -> 0 | I27: =G27-H27 -> 0 | J27: =F27-G27 -> 0 | K27: ='CapEx Project Detail'!D111 -> 0 | L27: ='CapEx Project Detail'!F111 -> 0 | M27: ='CapEx Project Detail'!H111 -> 0 | N27: ='CapEx Project Detail'!J111 -> 0 | O27: ='CapEx Project Detail'!L111 -> 0 | P27: ='CapEx Project Detail'!N111 -> 0 | Q27: ='CapEx Project Detail'!P111 -> 0 | R27: ='CapEx Project Detail'!R111 -> 0 | S27: ='CapEx Project Detail'!T111 -> 0 | T27: ='CapEx Project Detail'!V111 -> 0 | U27: ='CapEx Project Detail'!X111 -> 0 | V27: ='CapEx Project Detail'!Z111 -> 0
A28: 27-14 | B28: ='CapEx Project Detail'!B113 -> 0 | C28: ='CapEx Project Detail'!B118 -> 0 | F28: =C28+D28+E28 -> 0 | G28: ='CapEx Project Detail'!B119 -> 0 | I28: =G28-H28 -> 0 | J28: =F28-G28 -> 0 | K28: ='CapEx Project Detail'!D119 -> 0 | L28: ='CapEx Project Detail'!F119 -> 0 | M28: ='CapEx Project Detail'!H119 -> 0 | N28: ='CapEx Project Detail'!J119 -> 0 | O28: ='CapEx Project Detail'!L119 -> 0 | P28: ='CapEx Project Detail'!N119 -> 0 | Q28: ='CapEx Project Detail'!P119 -> 0 | R28: ='CapEx Project Detail'!R119 -> 0 | S28: ='CapEx Project Detail'!T119 -> 0 | T28: ='CapEx Project Detail'!V119 -> 0 | U28: ='CapEx Project Detail'!X119 -> 0 | V28: ='CapEx Project Detail'!Z119 -> 0
A29: 27-15 | B29: ='CapEx Project Detail'!B121 -> 0 | C29: ='CapEx Project Detail'!B126 -> 0 | F29: =C29+D29+E29 -> 0 | G29: ='CapEx Project Detail'!B127 -> 0 | I29: =G29-H29 -> 0 | J29: =F29-G29 -> 0 | K29: ='CapEx Project Detail'!D127 -> 0 | L29: ='CapEx Project Detail'!F127 -> 0 | M29: ='CapEx Project Detail'!H127 -> 0 | N29: ='CapEx Project Detail'!J127 -> 0 | O29: ='CapEx Project Detail'!L127 -> 0 | P29: ='CapEx Project Detail'!N127 -> 0 | Q29: ='CapEx Project Detail'!P127 -> 0 | R29: ='CapEx Project Detail'!R127 -> 0 | S29: ='CapEx Project Detail'!T127 -> 0 | T29: ='CapEx Project Detail'!V127 -> 0 | U29: ='CapEx Project Detail'!X127 -> 0 | V29: ='CapEx Project Detail'!Z127 -> 0
A30: 27-16 | B30: ='CapEx Project Detail'!B129 -> 0 | C30: ='CapEx Project Detail'!B134 -> 0 | F30: =C30+D30+E30 -> 0 | G30: ='CapEx Project Detail'!B135 -> 0 | I30: =G30-H30 -> 0 | J30: =F30-G30 -> 0 | K30: ='CapEx Project Detail'!D135 -> 0 | L30: ='CapEx Project Detail'!F135 -> 0 | M30: ='CapEx Project Detail'!H135 -> 0 | N30: ='CapEx Project Detail'!J135 -> 0 | O30: ='CapEx Project Detail'!L135 -> 0 | P30: ='CapEx Project Detail'!N135 -> 0 | Q30: ='CapEx Project Detail'!P135 -> 0 | R30: ='CapEx Project Detail'!R135 -> 0 | S30: ='CapEx Project Detail'!T135 -> 0 | T30: ='CapEx Project Detail'!V135 -> 0 | U30: ='CapEx Project Detail'!X135 -> 0 | V30: ='CapEx Project Detail'!Z135 -> 0
A31: 27-17 | B31: ='CapEx Project Detail'!B137 -> 0 | C31: ='CapEx Project Detail'!B142 -> 0 | F31: =C31+D31+E31 -> 0 | G31: ='CapEx Project Detail'!B143 -> 0 | I31: =G31-H31 -> 0 | J31: =F31-G31 -> 0 | K31: ='CapEx Project Detail'!D143 -> 0 | L31: ='CapEx Project Detail'!F143 -> 0 | M31: ='CapEx Project Detail'!H143 -> 0 | N31: ='CapEx Project Detail'!J143 -> 0 | O31: ='CapEx Project Detail'!L143 -> 0 | P31: ='CapEx Project Detail'!N143 -> 0 | Q31: ='CapEx Project Detail'!P143 -> 0 | R31: ='CapEx Project Detail'!R143 -> 0 | S31: ='CapEx Project Detail'!T143 -> 0 | T31: ='CapEx Project Detail'!V143 -> 0 | U31: ='CapEx Project Detail'!X143 -> 0 | V31: ='CapEx Project Detail'!Z143 -> 0
A32: 27-18 | B32: ='CapEx Project Detail'!B145 -> 0 | C32: ='CapEx Project Detail'!B150 -> 0 | F32: =C32+D32+E32 -> 0 | G32: ='CapEx Project Detail'!B151 -> 0 | I32: =G32-H32 -> 0 | J32: =F32-G32 -> 0 | K32: ='CapEx Project Detail'!D151 -> 0 | L32: ='CapEx Project Detail'!F151 -> 0 | M32: ='CapEx Project Detail'!H151 -> 0 | N32: ='CapEx Project Detail'!J151 -> 0 | O32: ='CapEx Project Detail'!L151 -> 0 | P32: ='CapEx Project Detail'!N151 -> 0 | Q32: ='CapEx Project Detail'!P151 -> 0 | R32: ='CapEx Project Detail'!R151 -> 0 | S32: ='CapEx Project Detail'!T151 -> 0 | T32: ='CapEx Project Detail'!V151 -> 0 | U32: ='CapEx Project Detail'!X151 -> 0 | V32: ='CapEx Project Detail'!Z151 -> 0
A33: 27-19 | B33: ='CapEx Project Detail'!B153 -> 0 | C33: ='CapEx Project Detail'!B158 -> 0 | F33: =C33+D33+E33 -> 0 | G33: ='CapEx Project Detail'!B159 -> 0 | I33: =G33-H33 -> 0 | J33: =F33-G33 -> 0 | K33: ='CapEx Project Detail'!D159 -> 0 | L33: ='CapEx Project Detail'!F159 -> 0 | M33: ='CapEx Project Detail'!H159 -> 0 | N33: ='CapEx Project Detail'!J159 -> 0 | O33: ='CapEx Project Detail'!L159 -> 0 | P33: ='CapEx Project Detail'!N159 -> 0 | Q33: ='CapEx Project Detail'!P159 -> 0 | R33: ='CapEx Project Detail'!R159 -> 0 | S33: ='CapEx Project Detail'!T159 -> 0 | T33: ='CapEx Project Detail'!V159 -> 0 | U33: ='CapEx Project Detail'!X159 -> 0 | V33: ='CapEx Project Detail'!Z159 -> 0
A34: 27-20 | B34: ='CapEx Project Detail'!B161 -> 0 | C34: ='CapEx Project Detail'!B166 -> 0 | F34: =C34+D34+E34 -> 0 | G34: ='CapEx Project Detail'!B167 -> 0 | I34: =G34-H34 -> 0 | J34: =F34-G34 -> 0 | K34: ='CapEx Project Detail'!D167 -> 0 | L34: ='CapEx Project Detail'!F167 -> 0 | M34: ='CapEx Project Detail'!H167 -> 0 | N34: ='CapEx Project Detail'!J167 -> 0 | O34: ='CapEx Project Detail'!L167 -> 0 | P34: ='CapEx Project Detail'!N167 -> 0 | Q34: ='CapEx Project Detail'!P167 -> 0 | R34: ='CapEx Project Detail'!R167 -> 0 | S34: ='CapEx Project Detail'!T167 -> 0 | T34: ='CapEx Project Detail'!V167 -> 0 | U34: ='CapEx Project Detail'!X167 -> 0 | V34: ='CapEx Project Detail'!Z167 -> 0
A35: 27-21 | B35: ='CapEx Project Detail'!B169 -> 0 | C35: ='CapEx Project Detail'!B174 -> 0 | F35: =C35+D35+E35 -> 0 | G35: ='CapEx Project Detail'!B175 -> 0 | I35: =G35-H35 -> 0 | J35: =F35-G35 -> 0 | K35: ='CapEx Project Detail'!D175 -> 0 | L35: ='CapEx Project Detail'!F175 -> 0 | M35: ='CapEx Project Detail'!H175 -> 0 | N35: ='CapEx Project Detail'!J175 -> 0 | O35: ='CapEx Project Detail'!L175 -> 0 | P35: ='CapEx Project Detail'!N175 -> 0 | Q35: ='CapEx Project Detail'!P175 -> 0 | R35: ='CapEx Project Detail'!R175 -> 0 | S35: ='CapEx Project Detail'!T175 -> 0 | T35: ='CapEx Project Detail'!V175 -> 0 | U35: ='CapEx Project Detail'!X175 -> 0 | V35: ='CapEx Project Detail'!Z175 -> 0
A36: 27-22 | B36: ='CapEx Project Detail'!B177 -> 0 | C36: ='CapEx Project Detail'!B182 -> 0 | F36: =C36+D36+E36 -> 0 | G36: ='CapEx Project Detail'!B183 -> 0 | I36: =G36-H36 -> 0 | J36: =F36-G36 -> 0 | K36: ='CapEx Project Detail'!D183 -> 0 | L36: ='CapEx Project Detail'!F183 -> 0 | M36: ='CapEx Project Detail'!H183 -> 0 | N36: ='CapEx Project Detail'!J183 -> 0 | O36: ='CapEx Project Detail'!L183 -> 0 | P36: ='CapEx Project Detail'!N183 -> 0 | Q36: ='CapEx Project Detail'!P183 -> 0 | R36: ='CapEx Project Detail'!R183 -> 0 | S36: ='CapEx Project Detail'!T183 -> 0 | T36: ='CapEx Project Detail'!V183 -> 0 | U36: ='CapEx Project Detail'!X183 -> 0 | V36: ='CapEx Project Detail'!Z183 -> 0
A37: 27-23 | B37: ='CapEx Project Detail'!B185 -> 0 | C37: ='CapEx Project Detail'!B190 -> 0 | F37: =C37+D37+E37 -> 0 | G37: ='CapEx Project Detail'!B191 -> 0 | I37: =G37-H37 -> 0 | J37: =F37-G37 -> 0 | K37: ='CapEx Project Detail'!D191 -> 0 | L37: ='CapEx Project Detail'!F191 -> 0 | M37: ='CapEx Project Detail'!H191 -> 0 | N37: ='CapEx Project Detail'!J191 -> 0 | O37: ='CapEx Project Detail'!L191 -> 0 | P37: ='CapEx Project Detail'!N191 -> 0 | Q37: ='CapEx Project Detail'!P191 -> 0 | R37: ='CapEx Project Detail'!R191 -> 0 | S37: ='CapEx Project Detail'!T191 -> 0 | T37: ='CapEx Project Detail'!V191 -> 0 | U37: ='CapEx Project Detail'!X191 -> 0 | V37: ='CapEx Project Detail'!Z191 -> 0
A38: 27-24 | B38: ='CapEx Project Detail'!B193 -> 0 | C38: ='CapEx Project Detail'!B198 -> 0 | F38: =C38+D38+E38 -> 0 | G38: ='CapEx Project Detail'!B199 -> 0 | I38: =G38-H38 -> 0 | J38: =F38-G38 -> 0 | K38: ='CapEx Project Detail'!D199 -> 0 | L38: ='CapEx Project Detail'!F199 -> 0 | M38: ='CapEx Project Detail'!H199 -> 0 | N38: ='CapEx Project Detail'!J199 -> 0 | O38: ='CapEx Project Detail'!L199 -> 0 | P38: ='CapEx Project Detail'!N199 -> 0 | Q38: ='CapEx Project Detail'!P199 -> 0 | R38: ='CapEx Project Detail'!R199 -> 0 | S38: ='CapEx Project Detail'!T199 -> 0 | T38: ='CapEx Project Detail'!V199 -> 0 | U38: ='CapEx Project Detail'!X199 -> 0 | V38: ='CapEx Project Detail'!Z199 -> 0
A39: 27-25 | B39: ='CapEx Project Detail'!B201 -> 0 | C39: ='CapEx Project Detail'!B206 -> 0 | F39: =C39+D39+E39 -> 0 | G39: ='CapEx Project Detail'!B207 -> 0 | I39: =G39-H39 -> 0 | J39: =F39-G39 -> 0 | K39: ='CapEx Project Detail'!D207 -> 0 | L39: ='CapEx Project Detail'!F207 -> 0 | M39: ='CapEx Project Detail'!H207 -> 0 | N39: ='CapEx Project Detail'!J207 -> 0 | O39: ='CapEx Project Detail'!L207 -> 0 | P39: ='CapEx Project Detail'!N207 -> 0 | Q39: ='CapEx Project Detail'!P207 -> 0 | R39: ='CapEx Project Detail'!R207 -> 0 | S39: ='CapEx Project Detail'!T207 -> 0 | T39: ='CapEx Project Detail'!V207 -> 0 | U39: ='CapEx Project Detail'!X207 -> 0 | V39: ='CapEx Project Detail'!Z207 -> 0
A40: 27-26 | B40: ='CapEx Project Detail'!B209 -> 0 | C40: ='CapEx Project Detail'!B214 -> 0 | F40: =C40+D40+E40 -> 0 | G40: ='CapEx Project Detail'!B215 -> 0 | I40: =G40-H40 -> 0 | J40: =F40-G40 -> 0 | K40: ='CapEx Project Detail'!D215 -> 0 | L40: ='CapEx Project Detail'!F215 -> 0 | M40: ='CapEx Project Detail'!H215 -> 0 | N40: ='CapEx Project Detail'!J215 -> 0 | O40: ='CapEx Project Detail'!L215 -> 0 | P40: ='CapEx Project Detail'!N215 -> 0 | Q40: ='CapEx Project Detail'!P215 -> 0 | R40: ='CapEx Project Detail'!R215 -> 0 | S40: ='CapEx Project Detail'!T215 -> 0 | T40: ='CapEx Project Detail'!V215 -> 0 | U40: ='CapEx Project Detail'!X215 -> 0 | V40: ='CapEx Project Detail'!Z215 -> 0
A41: 27-27 | B41: ='CapEx Project Detail'!B217 -> 0 | C41: ='CapEx Project Detail'!B222 -> 0 | F41: =C41+D41+E41 -> 0 | G41: ='CapEx Project Detail'!B223 -> 0 | I41: =G41-H41 -> 0 | J41: =F41-G41 -> 0 | K41: ='CapEx Project Detail'!D223 -> 0 | L41: ='CapEx Project Detail'!F223 -> 0 | M41: ='CapEx Project Detail'!H223 -> 0 | N41: ='CapEx Project Detail'!J223 -> 0 | O41: ='CapEx Project Detail'!L223 -> 0 | P41: ='CapEx Project Detail'!N223 -> 0 | Q41: ='CapEx Project Detail'!P223 -> 0 | R41: ='CapEx Project Detail'!R223 -> 0 | S41: ='CapEx Project Detail'!T223 -> 0 | T41: ='CapEx Project Detail'!V223 -> 0 | U41: ='CapEx Project Detail'!X223 -> 0 | V41: ='CapEx Project Detail'!Z223 -> 0
...

Sheet CapEx Project Detail
A1: =Title!A27 -> Input Hotel Name Here
A2: =Title!A29 -> 2027 | AK2: A
A3: Cap Ex Project Detail | AK3: B
AK4: C
C5: MONTHLY COMMITMENTS
C6: Approval | D6: January | E6: Approval | F6: February | G6: Approval | H6: March | I6: Approval | J6: April | K6: Approval | L6: May | M6: Approval | N6: June | O6: Approval | P6: July | Q6: Approval | R6: August | S6: Approval | T6: September | U6: Approval | V6: October | W6: Approval | X6: November | Y6: Approval | Z6: December
C7: Date | E7: Date | G7: Date | I7: Date | K7: Date | M7: Date | O7: Date | Q7: Date | S7: Date | U7: Date | W7: Date | Y7: Date
A8: Project # | B8: ='Curent Year CapEx'!A15 -> 27-01
A9: Project Name:
A10: Priority:
A11: Start Date:
A12: End Date:
A13: Description:
A14: Total Budget: | B14: 0
A15: Total Commited: | B15: =D15+F15+H15+J15+L15+N15+P15+R15+T15+V15+X15+Z15 -> 0 | D15: =D11+D12+D13 -> 0 | F15: =F11+F12+F13 -> 0 | H15: =H11+H12+H13 -> 0 | J15: =J11+J12+J13 -> 0 | L15: =L11+L12+L13 -> 0 | N15: =N11+N12+N13 -> 0 | P15: =P11+P12+P13 -> 0 | R15: =R11+R12+R13 -> 0 | T15: =T11+T12+T13 -> 0 | V15: =V11+V12+V13 -> 0 | X15: =X11+X12+X13 -> 0 | Z15: =Z11+Z12+Z13 -> 0
A16: Project # | B16: ='Curent Year CapEx'!A16 -> 27-02
A17: Project Name:
A18: Priority:
A19: Start Date:
A20: End Date:
A21: Description:
A22: Total Budget: | B22: 0
A23: Total Commited: | B23: =D23+F23+H23+J23+L23+N23+P23+R23+T23+V23+X23+Z23 -> 0 | D23: =D19+D20+D21 -> 0 | F23: =F19+F20+F21 -> 0 | H23: =H19+H20+H21 -> 0 | J23: =J19+J20+J21 -> 0 | L23: =L19+L20+L21 -> 0 | N23: =N19+N20+N21 -> 0 | P23: =P19+P20+P21 -> 0 | R23: =R19+R20+R21 -> 0 | T23: =T19+T20+T21 -> 0 | V23: =V19+V20+V21 -> 0 | X23: =X19+X20+X21 -> 0 | Z23: =Z19+Z20+Z21 -> 0
A24: Project # | B24: ='Curent Year CapEx'!A17 -> 27-03
A25: Project Name:
A26: Priority:
A27: Start Date:
A28: End Date:
A29: Description:
A30: Total Budget: | B30: 0
A31: Total Commited: | B31: =D31+F31+H31+J31+L31+N31+P31+R31+T31+V31+X31+Z31 -> 0 | D31: =D27+D28+D29 -> 0 | F31: =F27+F28+F29 -> 0 | H31: =H27+H28+H29 -> 0 | J31: =J27+J28+J29 -> 0 | L31: =L27+L28+L29 -> 0 | N31: =N27+N28+N29 -> 0 | P31: =P27+P28+P29 -> 0 | R31: =R27+R28+R29 -> 0 | T31: =T27+T28+T29 -> 0 | V31: =V27+V28+V29 -> 0 | X31: =X27+X28+X29 -> 0 | Z31: =Z27+Z28+Z29 -> 0
A32: Project # | B32: ='Curent Year CapEx'!A18 -> 27-04
A33: Project Name:
A34: Priority:
A35: Start Date:
A36: End Date:
A37: Description:
A38: Total Budget: | B38: 0
A39: Total Commited: | B39: =D39+F39+H39+J39+L39+N39+P39+R39+T39+V39+X39+Z39 -> 0 | D39: =D35+D36+D37 -> 0 | F39: =F35+F36+F37 -> 0 | H39: =H35+H36+H37 -> 0 | J39: =J35+J36+J37 -> 0 | L39: =L35+L36+L37 -> 0 | N39: =N35+N36+N37 -> 0 | P39: =P35+P36+P37 -> 0 | R39: =R35+R36+R37 -> 0 | T39: =T35+T36+T37 -> 0 | V39: =V35+V36+V37 -> 0 | X39: =X35+X36+X37 -> 0 | Z39: =Z35+Z36+Z37 -> 0
A40: Project # | B40: ='Curent Year CapEx'!A19 -> 27-05
...

Sheet 5 Yr Cap Ex
A1: =Title!A27 -> Input Hotel Name Here
A2: 2027-2031
A3: =Title!A30 -> Capital Expenditure Budget
A4: ="TOTAL KEYS:"&TEXT(Title!G36,"0") -> TOTAL KEYS:0
A7: EXPENDITURE SUMMARY | B7: PLANNED EXPENDITURES
B8: 2027 | C8: 2028 | D8: 2029 | E8: 2030 | F8: 2031 | G8: TOTAL
A12: FF&E REPLACEMENT
A13: - Guestrooms and Corridors | G13: =SUM(B13:F13) -> 0
A14: - Metting Rooms and Public Areas | G14: =SUM(B14:F14) -> 0
A15: - F&B Outlets | G15: =SUM(B15:F15) -> 0
A16: - Back of the House | G16: =SUM(B16:F16) -> 0
A17: - Systems | G17: =SUM(B17:F17) -> 0
A18: - Brand conversions / Standards | G18: =SUM(B18:F18) -> 0
A19: TOTAL FF&E REPLACEMENT | B19: =SUM(B13:B18) -> 0 | C19: =SUM(C13:C18) -> 0 | D19: =SUM(D13:D18) -> 0 | E19: =SUM(E13:E18) -> 0 | F19: =SUM(F13:F18) -> 0 | G19: =SUM(B19:F19) -> 0
A21: REGULATORY / MANDATORY | L21: =SUM(B31:B34) -> 0
A23: BUILDING CUSTODIAL
A25: PROFIT IMPROVEMENT
A27: TOTAL PROJECTS | B27: =SUM(B19:B26) -> 0 | C27: =SUM(C19:C26) -> 0 | D27: =SUM(D19:D26) -> 0 | E27: =SUM(E19:E26) -> 0 | F27: =SUM(F19:F26) -> 0 | G27: =SUM(B27:F27) -> 0
A28: TOTAL DETAIL TO BUDGET | B28: ='Curent Year CapEx'!C90-B27 -> 0 | C28: ='5 Yr Project Detail'!D40-C27 -> 0 | D28: ='5 Yr Project Detail'!D75-D27 -> 0 | E28: ='5 Yr Project Detail'!D110-E27 -> 0 | F28: ='5 Yr Project Detail'!D145-F27 -> 0 | G28: =SUM(B28:F28) -> 0
A30: Funding profile
A31: - | G31: =SUM(B31:F31) -> 0
A32: - | G32: =SUM(B32:F32) -> 0
A33: - | G33: =SUM(B33:F33) -> 0
A34: - Replacement reserve | B34: =ROUND(B37*B38,0) -> 0 | C34: =ROUND(C37*C38,0) -> 0 | D34: =ROUND(D37*D38,0) -> 0 | E34: =ROUND(E37*E38,0) -> 0 | F34: =ROUND(F37*F38,0) -> 0 | G34: =SUM(B34:F34) -> 0
A35: TOTAL FUNDING (Must equal Expenditures) | B35: =SUM(B31:B34) -> 0 | C35: =SUM(C31:C34) -> 0 | D35: =SUM(D31:D34) -> 0 | E35: =SUM(E31:E34) -> 0 | F35: =SUM(F31:F34) -> 0 | G35: =SUM(G31:G34) -> 0
B36: =IF(B27-B35=0,"",IF(B27-B35<0,"Funding Exceeds Projects","Projects Exceed Funding")) | C36: =IF(C27-C35=0,"",IF(C27-C35<0,"Funding Exceeds Projects","Projects Exceed Funding")) | D36: =IF(D27-D35=0,"",IF(D27-D35<0,"Funding Exceeds Projects","Projects Exceed Funding")) | E36: =IF(E27-E35=0,"",IF(E27-E35<0,"Funding Exceeds Projects","Projects Exceed Funding")) | F36: =IF(F27-F35=0,"",IF(F27-F35<0,"Funding Exceeds Projects","Projects Exceed Funding")) | G36: =IF(G27-G35=0,"",IF(G27-G35<0,"Funding Exceeds Projects","Projects Exceed Funding"))
A37: Total Revenue | B37: ='Curent Year CapEx'!C6 -> 0 | C37: 0 | D37: 0 | E37: 0 | F37: 0 | G37: =SUM(B37:F37) -> 0
A38: Replacement Reserve % | B38: 0.04 | C38: 0.04 | D38: 0.04 | E38: 0.04 | F38: 0.04 | G38: =IFERROR(G34/G37,0) -> 0
A39: Total Projects % of Total Revenue | B39: =IFERROR(B27/B37,0) -> 0 | C39: =IFERROR(C27/C37,0) -> 0 | D39: =IFERROR(D27/D37,0) -> 0 | E39: =IFERROR(E27/E37,0) -> 0 | F39: =IFERROR(F27/F37,0) -> 0 | G39: =IFERROR(G27/G37,0) -> 0

Sheet 5 Yr Project Detail
A1: REBEL HOTEL COMPANY | C1: Property: | D1: =Title!A27 -> Input Hotel Name Here
A2: 5 YEAR CAPITAL BUDGET PLANNING WORKSHEET | C2: Property Location: | D2: =Title!A28 -> New York, NY
A3: YEARS 2-5
A5: YEAR | B5: DESCRIPTION | C5: COMMENTS | D5: PROJECTED COST
A6: =Title!A29+1 -> 2028
C40: TOTAL | D40: =SUM(D6:D39) -> 0
A41: =Title!A29+2 -> 2029
C75: TOTAL | D75: =SUM(D41:D74) -> 0
A76: =Title!A29+3 -> 2030
C110: TOTAL | D110: =SUM(D76:D109) -> 0
A111: =Title!A29+4 -> 2031
C145: TOTAL | D145: =SUM(D111:D144) -> 0
